BEGIN:VCALENDAR
VERSION:2.0
PRODID:-//wp-events-plugin.com//7.2.3.1//EN
BEGIN:VEVENT
UID:27@bsg-baerl.de
DTSTART;TZID=Europe/Berlin:20250510T160000
DTEND;TZID=Europe/Berlin:20250510T190000
DTSTAMP:20250421T193445Z
URL:https://bsg-baerl.de/veranstaltungen/ausmarsch-2025/
SUMMARY:Ausmarsch
DESCRIPTION:Lieber Schützenbrider\,\n\nhiermit lade ich Dich im Namen des 
 Vorstands zu unserem diesjährigen Kompanie-Ausmarsch ein. Dieser findet a
 m Samstag\, den 10. Mai 2025 um 16:00 Uhr statt und führt uns zur histor
 ischen Lohmühle - An der Lohmühle 17 - in Baerl.\nKompanie-Ausmarsch a
 m Samstag\, den 10. Mai 2025\nAntreten ist um 15:45 Uhr an unserem Vereins
 lokal Waldhof.\n\nWem die Wegstrecke zu lang ist\, der kann gegen 16:30 U
 hr bei Familie Engeln an der Heesbergstraße 54A in den Zug eintreten.\n\
 nDie heutige Lohmühle wurde 1834 als Getreidemühle zur Belieferung de
 r ortsansässigen Bäckereien erbaut. Erst im Jahr 1960 (!) wurde der Ma
 hlbetrieb eingestellt. 1974 begann bereits die aufwändige Restauration 
 nach historischem Vorbild. Mit der Montage der Stahlflügel 2016 wurde d
 er ursprüngliche Zustand und auch die Funktionsfähigkeit wiederhergeste
 llt.\n\nGroßen Anteil daran hatte der 2007 gegründete Mühlenverein Lo
 hmühle e.V.\, welcher unser Gastgeber sein wird. Ich freue mich darauf\
 , Dich an diesem besonderen Ort begrüßen zu dürfen. Der Musikverein 
 Vierbaum wird musikalisch für Stimmung sorgen.\n\nHast du einen Freund\,
  der noch nicht Mitglied ist? Dann lade ihn ein und bringe ihn mit!\n\nWir
  freuen uns auf einen geselligen Nachmittag.\n\nMit Schützengruß\nSebast
 ian Hartendorf\nGeschäftsführer BSG Baerl von 1485 e.V.
ATTACH;FMTTYPE=image/jpeg:https://bsg-baerl.de/wp-content/uploads/2025/03/
 ausmarsch2025.jpeg
CATEGORIES:BSG Baerl von 1485 e.V.
LOCATION:Vereinslokal Waldhof\, Hubertusstr.\, Duisburg\, 47199\, Deutschla
 nd
X-APPLE-STRUCTURED-LOCATION;VALUE=URI;X-ADDRESS=Hubertusstr.\, Duisburg\, 4
 7199\, Deutschland;X-APPLE-RADIUS=100;X-TITLE=Vereinslokal Waldhof:geo:0,0
END:VEVENT
BEGIN:VTIMEZONE
TZID:Europe/Berlin
X-LIC-LOCATION:Europe/Berlin
BEGIN:DAYLIGHT
DTSTART:20250330T030000
TZOFFSETFROM:+0100
TZOFFSETTO:+0200
TZNAME:CEST
END:DAYLIGHT
END:VTIMEZONE
END:VCALENDAR