BEGIN:VCALENDAR
VERSION:2.0
PRODID:-//wp-events-plugin.com//7.2.3.1//EN
BEGIN:VEVENT
UID:46@bsg-baerl.de
DTSTART;TZID=Europe/Berlin:20260425T160000
DTEND;TZID=Europe/Berlin:20260425T190000
DTSTAMP:20260401T164734Z
URL:https://bsg-baerl.de/veranstaltungen/ausmarsch-2026/
SUMMARY:Ausmarsch 2026
DESCRIPTION:Lieber Schützenbruder\,\n\nhiermit lade ich Dich im Namen des 
 Vorstands zu unserem diesjährigen Kompanie-Ausmarsch ein. Dieser findet a
 m Samstag\, den 25. April 2026 um 16:00 Uhr statt und führt uns unter die
  Buchen auf der Buchenallee in Baerl.\nKompanie-Ausmarsch am Samstag\, den
  25. April 2026\nAntreten ist um 15:45 Uhr an der Freiwilligen Feuerwehr B
 aerl. Musikalisch werden wir vom Spielmannszug der Freiwilligen Feuerwehr 
 Vierbaum begleitet.\n\nAn der Stelle des heutigen Fußballplatzes des TuS 
 Baerl 1886/1919 e.V. befand sich vor rund 100 Jahren das Brackenlager „K
 amp Ramskapelle“ des belgischen Infanterie-Bataillons. Nach dem Ende des
  1. Weltkriegs wurden dort ab 1918 rund 800 Soldaten mit ihren Familienang
 ehörigen stationiert.\n\nWährend der Besatzungszeit kam es zu Auseinande
 rsetzungen mit der einheimischen Bevölkerung. So schlugen belgische Solda
 ten der Figur des Kaiserdenkmals in Binsheim den Kopf ab.\n\nNach dem Ende
  der Alliierten Rheinlandbesetzung im Jahr 1926 wurde kurz darauf die „K
 amp Ramskapelle“ eingeebnet und das Gelände einem zivilen Zweck zugefü
 hrt.\n\nHeute — 100 Jahre später — sind aus dieser Zeit noch einige W
 ohnhäuser erhalten geblieben. Abgesehen vom architektonischen Erbe dürfe
 n unsere Landesnachbarn aber noch etwas anderes entscheidend geprägt habe
 n: Unsere Tradition für das Sappeurs-Wesen!\n\nHast du einen Freund\, der
  noch nicht Mitglied ist? Dann lade ihn ein und bringe ihn mit! Wir freuen
  uns auf einen geselligen Nachmittag.\n\nMit Schützengruß\nSebastian Har
 tendorf\nGeschäftsführer
ATTACH;FMTTYPE=image/jpeg:https://bsg-baerl.de/wp-content/uploads/2026/04/
 Ausmarsch2026_konvertiert.webp
CATEGORIES:BSG Baerl von 1485 e.V.
LOCATION:Feuerwehrplatz\, Augustastraße 5\, Duisburg\, 47199\, Deutschland
X-APPLE-STRUCTURED-LOCATION;VALUE=URI;X-ADDRESS=Augustastraße 5\, Duisburg
 \, 47199\, Deutschland;X-APPLE-RADIUS=100;X-TITLE=Feuerwehrplatz:geo:0,0
END:VEVENT
BEGIN:VTIMEZONE
TZID:Europe/Berlin
X-LIC-LOCATION:Europe/Berlin
BEGIN:DAYLIGHT
DTSTART:20260329T030000
TZOFFSETFROM:+0100
TZOFFSETTO:+0200
TZNAME:CEST
END:DAYLIGHT
END:VTIMEZONE
END:VCALENDAR