BEGIN:VCALENDAR
VERSION:2.0
PRODID:-//wp-events-plugin.com//7.2.3.1//EN
BEGIN:VEVENT
UID:37@bsg-baerl.de
DTSTART;TZID=Europe/Berlin:20250821T130000
DTEND;TZID=Europe/Berlin:20250821T143000
DTSTAMP:20250816T074729Z
URL:https://bsg-baerl.de/veranstaltungen/beisetzung-erich-staats/
SUMMARY:Beisetzung Erich Staats
DESCRIPTION:Lieber Schützenbruder\,\nuns hat die traurige Nachricht ereilt
 \, dass unser Schützenbruder Erich Staats verstorben ist. Wer sich Zeit n
 ehmen kann\, möchte seinen letzten Weg begleiten.\n\nDie Beisetzung finde
 t am Donnerstag\, 21. August 2025 um 13:00 Uhr auf dem Kirchfriedhof statt
 .
ATTACH;FMTTYPE=image/jpeg:https://bsg-baerl.de/wp-content/uploads/2025/03/
 beisetzung_termin.png
CATEGORIES:Beisetzung
LOCATION:Kirchfriedhof\, Schulstraße\, Duisburg\, 47199\, Deutschland
X-APPLE-STRUCTURED-LOCATION;VALUE=URI;X-ADDRESS=Schulstraße\, Duisburg\, 4
 7199\, Deutschland;X-APPLE-RADIUS=100;X-TITLE=Kirchfriedhof:geo:0,0
END:VEVENT
BEGIN:VTIMEZONE
TZID:Europe/Berlin
X-LIC-LOCATION:Europe/Berlin
BEGIN:DAYLIGHT
DTSTART:20250330T030000
TZOFFSETFROM:+0100
TZOFFSETTO:+0200
TZNAME:CEST
END:DAYLIGHT
END:VTIMEZONE
END:VCALENDAR