BEGIN:VCALENDAR
VERSION:2.0
PRODID:-//wp-events-plugin.com//7.2.3.1//EN
BEGIN:VEVENT
UID:33@bsg-baerl.de
DTSTART;TZID=Europe/Berlin:20250512T120000
DTEND;TZID=Europe/Berlin:20250512T133000
DTSTAMP:20250507T102553Z
URL:https://bsg-baerl.de/veranstaltungen/beisetzung-klaus-kuehn/
SUMMARY:Beisetzung Klaus Kühn
DESCRIPTION:Lieber Schützenbruder\,\nuns hat die traurige Nachricht ereilt
 \, dass unser Schützenbruder Klaus Kühn verstorben ist. Wer sich Zeit ne
 hmen kann\, möchte seinen letzten Weg begleiten.\n\nKlaus Kühn war seit 
 1981 Mitglied der BSG\, von 1993 bis 2013 Offizier und wechselte anschlie
 ßend in die Alte Garde.\nEr hat sich in all den Jahren – auch durch sei
 n handwerkliches Geschick – sehr um den Verein verdient gemacht.\n\nDer 
 Trauergottesdienst ist am Montag\, dem 12. Mai 2025\, um 12:00 Uhr in der 
 ev. Dorfkirche zu Baerl. Die Beisetzung erfolgt anschließend auf dem Kirc
 hfriedhof.
ATTACH;FMTTYPE=image/jpeg:https://bsg-baerl.de/wp-content/uploads/2025/03/
 beisetzung_termin.png
CATEGORIES:Beisetzung
LOCATION:Kirchfriedhof\, Schulstraße\, Duisburg\, 47199\, Deutschland
X-APPLE-STRUCTURED-LOCATION;VALUE=URI;X-ADDRESS=Schulstraße\, Duisburg\, 4
 7199\, Deutschland;X-APPLE-RADIUS=100;X-TITLE=Kirchfriedhof:geo:0,0
END:VEVENT
BEGIN:VTIMEZONE
TZID:Europe/Berlin
X-LIC-LOCATION:Europe/Berlin
BEGIN:DAYLIGHT
DTSTART:20250330T030000
TZOFFSETFROM:+0100
TZOFFSETTO:+0200
TZNAME:CEST
END:DAYLIGHT
END:VTIMEZONE
END:VCALENDAR