BEGIN:VCALENDAR
VERSION:2.0
PRODID:-//wp-events-plugin.com//7.2.3.1//EN
BEGIN:VEVENT
UID:29@bsg-baerl.de
DTSTART;TZID=Europe/Berlin:20250411T110000
DTEND;TZID=Europe/Berlin:20250411T130000
DTSTAMP:20250326T182249Z
URL:https://bsg-baerl.de/veranstaltungen/beisetzung-rainer-puetz/
SUMMARY:Beisetzung Rainer Pütz
DESCRIPTION:Lieber Schützenbruder\,\nuns hat die traurige Nachricht ereilt
 \, dass unser Schützenbruder Rainer Pütz verstorben ist. Wer sich Zeit n
 ehmen kann\, möchte seinen letzten Weg begleiten.\n\n️ Freitag\, 11. Ap
 ril 2025\n⛪️ Trauerfeier mit anschließender Beisetzung um 11:00 Uhr a
 uf dem Friedhof "Annaberg" in 47495 Rheinberg\, An der Sankt-Anna-Kirche 2
ATTACH;FMTTYPE=image/jpeg:https://bsg-baerl.de/wp-content/uploads/2025/03/
 beisetzung_termin.png
CATEGORIES:Beisetzung
LOCATION:Friedhof "Annaberg"\, An der Sankt-Anna-Kirche 2\, Rheinberg\, 474
 95\, Deutschland
X-APPLE-STRUCTURED-LOCATION;VALUE=URI;X-ADDRESS=An der Sankt-Anna-Kirche 2\
 , Rheinberg\, 47495\, Deutschland;X-APPLE-RADIUS=100;X-TITLE=Friedhof \"An
 naberg\":geo:0,0
END:VEVENT
BEGIN:VTIMEZONE
TZID:Europe/Berlin
X-LIC-LOCATION:Europe/Berlin
BEGIN:DAYLIGHT
DTSTART:20250330T030000
TZOFFSETFROM:+0100
TZOFFSETTO:+0200
TZNAME:CEST
END:DAYLIGHT
END:VTIMEZONE
END:VCALENDAR