BEGIN:VCALENDAR
VERSION:2.0
PRODID:-//wp-events-plugin.com//7.2.3.1//EN
BEGIN:VEVENT
UID:22@bsg-baerl.de
DTSTART:20251116T094500Z
DTEND:20251116T103000Z
DTSTAMP:20251017T110535Z
URL:https://bsg-baerl.de/veranstaltungen/gedenkstunde-volkstrauertag-3/
SUMMARY:Gedenkstunde/ Volkstrauertag
DESCRIPTION:Wie in jedem Jahr sind die Mitglieder der Baerler Vereine und O
 rganisationen vom Baerler Heimat- und Bürgerverein zur Gedenkstunde am Ma
 hnmal eingeladen.\n\n 	10:45 Uhr Antreten am Feuerwehrplatz\n 	11:00 Uhr G
 edenkstunde und Kranzniederlegung am Mahnmal\n\nVorab sind alle Vereine (g
 erne auch in Uniform) von Pastor Andreas Klumb herzlich zum Gottesdienst u
 m 9:30 Uhr in der ev. Dorfkirche eingeladen.\n\nÜber eine rege Teilnahme 
 an der Gedenkfeier würden wir uns freuen.
ATTACH;FMTTYPE=image/jpeg:https://bsg-baerl.de/wp-content/uploads/2013/06/
 Mahnmal02.jpg
CATEGORIES:BSG Baerl von 1485 e.V.
LOCATION:Mahnmal\, Kreuzstraße/ Ecke Buchenstraße\, Duisburg\, 47199\, De
 utschland
X-APPLE-STRUCTURED-LOCATION;VALUE=URI;X-ADDRESS=Kreuzstraße/ Ecke Buchenst
 raße\, Duisburg\, 47199\, Deutschland;X-APPLE-RADIUS=100;X-TITLE=Mahnmal:
 geo:0,0
END:VEVENT
END:VCALENDAR