BEGIN:VCALENDAR
VERSION:2.0
PRODID:-//wp-events-plugin.com//7.2.3.1//EN
BEGIN:VEVENT
UID:23@bsg-baerl.de
DTSTART;TZID=Europe/Berlin:20251115T120000
DTEND;TZID=Europe/Berlin:20251115T180000
DTSTAMP:20251017T110511Z
URL:https://bsg-baerl.de/veranstaltungen/preis-und-pokalschiessen-2/
SUMMARY:Preis- und Pokalschießen*
DESCRIPTION:Lieber Schützenbruder\,\n\nzum Preis- und Pokalschießen am Sa
 mstag\, den 15. November 2025 lade ich Dich im Namen des Vorstands herzlic
 h ein und freue mich auf deine Teilnahme.\n\nDas Schießen findet\, zwisch
 en 12:00 und 18:00 Uhr im Schützenhaus der „St. Sebastianus / St. Georg
 ius Schützenbruderschaft Rheinberg“ statt.\n\n 	Die Adresse des Schütz
 enhauses lautet: 47495 Rheinberg\, Innenwall 106\n 	Beginn des Schießbetr
 iebs: 12:00 Uhr (Anmeldung möglich bis 15:00 Uhr)\n 	Geplantes Ende des S
 chießbetriebs: 16:00 Uhr\n 	Anschließend findet die Verleihung der Pokal
 e und Preise statt.\n\nWie in den vergangenen Jahren wird für das leiblic
 he Wohl in Form eines Mittagessens (kostenlos) sowie Getränken (kostenpfl
 ichtig) gesorgt.\n\nDa der Schießstand nicht in Baerl ist\, wäre es sch
 ön\, wenn ihr Euch untereinander absprecht und gemeinsam zum Schießen ko
 mmt.
ATTACH;FMTTYPE=image/jpeg:https://bsg-baerl.de/wp-content/uploads/2024/11/
 2024-11-16-PPS2024-004.jpg
CATEGORIES:BSG Baerl von 1485 e.V.
LOCATION:Schützenhaus der „St. Sebastianus / St. Georgius Schützenbrude
 rschaft Rheinberg“\, Innenwall 106\, Rheinberg\, 47495\, Deutschland
X-APPLE-STRUCTURED-LOCATION;VALUE=URI;X-ADDRESS=Innenwall 106\, Rheinberg\,
  47495\, Deutschland;X-APPLE-RADIUS=100;X-TITLE=Schützenhaus der „St. S
 ebastianus / St. Georgius Schützenbruderschaft Rheinberg“:geo:0,0
END:VEVENT
BEGIN:VTIMEZONE
TZID:Europe/Berlin
X-LIC-LOCATION:Europe/Berlin
BEGIN:STANDARD
DTSTART:20251026T020000
TZOFFSETFROM:+0200
TZOFFSETTO:+0100
TZNAME:CET
END:STANDARD
END:VTIMEZONE
END:VCALENDAR