BEGIN:VCALENDAR
VERSION:2.0
PRODID:-//wp-events-plugin.com//7.2.3.1//EN
BEGIN:VEVENT
UID:31@bsg-baerl.de
DTSTART;TZID=Europe/Berlin:20250823T000000
DTEND;TZID=Europe/Berlin:20250823T000000
DTSTAMP:20250326T103951Z
URL:https://bsg-baerl.de/veranstaltungen/sappeur-feier-sappeure-on-fire/
SUMMARY:Sappeur Feier (Sappeure on Fire)
DESCRIPTION:für geladene Gäste
ATTACH;FMTTYPE=image/jpeg:https://bsg-baerl.de/wp-content/uploads/2025/03/
 sappeure_termin.png
CATEGORIES:Sappeure
END:VEVENT
BEGIN:VTIMEZONE
TZID:Europe/Berlin
X-LIC-LOCATION:Europe/Berlin
BEGIN:DAYLIGHT
DTSTART:20250330T030000
TZOFFSETFROM:+0100
TZOFFSETTO:+0200
TZNAME:CEST
END:DAYLIGHT
END:VTIMEZONE
END:VCALENDAR