BEGIN:VCALENDAR
VERSION:2.0
PRODID:-//wp-events-plugin.com//7.2.3.1//EN
BEGIN:VEVENT
UID:34@bsg-baerl.de
DTSTART;TZID=Europe/Berlin;VALUE=DATE:20250523
DTEND;TZID=Europe/Berlin;VALUE=DATE:20250527
DTSTAMP:20250522T095917Z
URL:https://bsg-baerl.de/veranstaltungen/schuetzenfest-in-lohmuehle/
SUMMARY:Schützenfest in Lohmühle
DESCRIPTION:Schützenfest unserer Nachbarn aus Lohmühle\n\nEs wäre schön
  dich dort zu treffen!
ATTACH;FMTTYPE=image/jpeg:https://bsg-baerl.de/wp-content/uploads/2025/03/
 auswaerts_termin.png
CATEGORIES:andere Veranstaltungen
END:VEVENT
BEGIN:VTIMEZONE
TZID:Europe/Berlin
X-LIC-LOCATION:Europe/Berlin
BEGIN:DAYLIGHT
DTSTART:20250330T030000
TZOFFSETFROM:+0100
TZOFFSETTO:+0200
TZNAME:CEST
END:DAYLIGHT
END:VTIMEZONE
END:VCALENDAR