BEGIN:VCALENDAR
VERSION:2.0
PRODID:-//wp-events-plugin.com//7.2.3.1//EN
BEGIN:VEVENT
UID:38@bsg-baerl.de
DTSTART;TZID=Europe/Berlin:20250914T150000
DTEND;TZID=Europe/Berlin:20250914T230000
DTSTAMP:20250903T064523Z
URL:https://bsg-baerl.de/veranstaltungen/schuetzenfest-und-umzug-in-orsoy-
 2025/
SUMMARY:Schützenfest und-umzug in Orsoy
DESCRIPTION:Lieber Schützenbruder\,\n\nder Bürgerschützenverein Orsoy vo
 n 1551 e.V. feiert vom 13. bis 16. September 2025sein diesjähriges Schü
 tzenfest.\n\nDazu ist die BSG Baerl als befreundeter Verein eingeladen\, 
 am Sonntag\, dem 14. September 2025 am Schützenumzug teilzunehmen. Wir 
 treffen uns dazu um 15:00 Uhr am Marktplatz an der ev. Kirche. Anschlie
 ßend startet der Festzug mit dem Sternmarsch. Nach Umzug und Parade geht 
 es gemeinsam auf das Zelt zum Schützenball.\n\nNatürlich möchten wir in
  Orsoy gerne in großer Mannstärke marschieren und freuen uns auf deine T
 eilnahme — wenn du hast\, in Uniform sonst im grünen BSG-Polo-Shirt.\n\
 nDas gesamte Schützenfest-Programm findest du unter bsv-orsoy.de. Du wir
 st sicher auf der Schützenparty am Samstag-Abend sowie beim Königsschie
 ßen am Montag-Vormittag zahlreiche BSG-Mitglieder antreffen.\n\nMit Schü
 tzengruß\nBSG Baerl von 1485 e.V.
ATTACH;FMTTYPE=image/jpeg:https://bsg-baerl.de/wp-content/uploads/2025/03/
 auswaerts_termin.png
CATEGORIES:andere Veranstaltungen
LOCATION:Marktplatz Orsoy\, Egerstraße 13\, Rheinberg (Orsoy)\, 47495\, De
 utschland
X-APPLE-STRUCTURED-LOCATION;VALUE=URI;X-ADDRESS=Egerstraße 13\, Rheinberg 
 (Orsoy)\, 47495\, Deutschland;X-APPLE-RADIUS=100;X-TITLE=Marktplatz Orsoy:
 geo:0,0
END:VEVENT
BEGIN:VTIMEZONE
TZID:Europe/Berlin
X-LIC-LOCATION:Europe/Berlin
BEGIN:DAYLIGHT
DTSTART:20250330T030000
TZOFFSETFROM:+0100
TZOFFSETTO:+0200
TZNAME:CEST
END:DAYLIGHT
END:VTIMEZONE
END:VCALENDAR