BEGIN:VCALENDAR
VERSION:2.0
PRODID:-//wp-events-plugin.com//7.2.3.1//EN
BEGIN:VEVENT
UID:39@bsg-baerl.de
DTSTART;TZID=Europe/Berlin:20251014T190000
DTEND;TZID=Europe/Berlin:20251014T203000
DTSTAMP:20251013T085313Z
URL:https://bsg-baerl.de/veranstaltungen/vorstandssitzung-2025-10/
SUMMARY:Vorstandssitzung
DESCRIPTION:
ATTACH;FMTTYPE=image/jpeg:https://bsg-baerl.de/wp-content/uploads/2025/03/
 vorstand_termin.png
CATEGORIES:Vorstand
LOCATION:Vereinslokal Waldhof\, Hubertusstr.\, Duisburg\, 47199\, Deutschla
 nd
X-APPLE-STRUCTURED-LOCATION;VALUE=URI;X-ADDRESS=Hubertusstr.\, Duisburg\, 4
 7199\, Deutschland;X-APPLE-RADIUS=100;X-TITLE=Vereinslokal Waldhof:geo:0,0
END:VEVENT
BEGIN:VTIMEZONE
TZID:Europe/Berlin
X-LIC-LOCATION:Europe/Berlin
BEGIN:DAYLIGHT
DTSTART:20250330T030000
TZOFFSETFROM:+0100
TZOFFSETTO:+0200
TZNAME:CEST
END:DAYLIGHT
END:VTIMEZONE
END:VCALENDAR